Workbook
Name INPUT: data!$A$1:$W$2

Sheet 입력
B1: [신청인 카드]
B2: 번호 | C2: 입력항목 | D2: 입력 [ 필수] | J2: 이름 중복이 되면, 등록이 안될 수 있습니다.
B3: 1 | C3: 개인코드[필] | E3: 인터넷 족보에서 검색된 개인코드(권/페이지) 입력/ 예) 269106(1/1p) | J3: [등록방법]
B4: 2 | C4: 등록/수정[필] | E4: 자녀등록,손주등록,본인수정 3단 구분/증손이상등록시 별도 연락 | J4: 만약 신규로 [자녀]를 등록하려면
B5: 3 | C5: 수단정산 핸드폰[필] | E5: 수단 입금자 핸드폰 번호/개인카드 3장 작성하면 전체 합해서 수단 통장 입금 | J5: 예) 개인코드_1, 개인코드_2,개인코드_3/ 우측의 각자 개인코드입니다.
B6: [족보카드] | E6: 여러명의 개인카드 작성시에는 결제 핸드폰 기준으로 합계 입금합니다.
B7: 번호 | C7: 개인 항목 | D7: 개인코드/입력 | E7: 등록 방법 | F7: 배우자항목 | G7: 배우자/입력 | H7: 등록 방법 | J7: 만약 [손주]를 등록하려면
B8: 1 | C8: 세수[신규 필] | E8: 숫자 1~30만 입력 | J8: 첫재 아들의 자녀(손주) 등록/3명
B9: 2 | C9: 성별[신규 필] | E9: 남,여 | F9: 배우 본관/한자 | H9: 女: 全州李氏같이 "氏"/ 男는 全州人같이 "人" 첨부 | J9: 예) 개인코드_11, 개인코드_12,개인코드_13
B10: 3 | C10: 형제순위[신규 필] | E10: 남자 우선 | F10: 배우 부명/한자 | H10: 女: 吉洞같이 한자/ 男는 생략/ 사위인 경우에는 부명 필요없음 | J10: 둘재 아들의 자녀(손주) 등록/2명
B11: 4 | C11: 한글이름[신규 필] | F11: 배 한글이름 | H11: 한글 이름 "길동" | J11: 예) 개인코드_21, 개인코드_22
B12: 5 | C12: 한문이름[신규 필] | F12: 배 한문이름 | H12: 한자 이름 "吉洞"
B13: 6 | C13: 일명_호[선택] | E13: 필수로 字, 號, 藝名, 法名, 洗禮名 있다면 첨두/ 字 榮學,號 榮學 등 처럼 작성
B14: 7 | C14: 생일/서기[신규 필] | E14: yyyy-mm-dd | F14: 배 생일/서기 | H14: yyyy-mm-dd로 입력/2004-05-25
B15: 8 | C15: 개인 학력/한자 | F15: 배우 학력/한자
B16: 9 | C16: 개인경력/한자 | F16: 배우 경력/한자 | I16: 키보드 F2로 수정해서 한자로
B17: 10 | C17: 개인 제사일 | F17: 배 제사일 | H17: yyyy-mm-dd로 입력/2010-12-31
B18: 11 | C18: 개인 묘소/한자 | F18: 배 묘소/한자 | I18: 묘소는 한자주소로 예)南楊州市鳥安面鎭~/배우자는 [개인묘소]와 같다면 上同 표시/절대 띄어쓰기 마시고요/
B19: 주) ▶"신규등록" 선택 : [신규필]은 필수 입력/ ▶ "수정"은 꼭 수정할 항목만 입력/ 선 결제 후 족보 작업
B20: ▶ 개인코드는 족보사 시스템에서 만들어지는 것이며, 개인코드는 주민등록번호 처럼 중복되지 않습니다.

Sheet data
A1: 등록_수정 | B1: 개인코드 | C1: 신청인 | D1: M_세대 | E1: M_성별 | F1: M_형제순위 | G1: M_한글이름 | H1: M_한문이름 | I1: M_일명_호 | J1: M_출생일 | K1: M_학력 | L1: M_경력 | M1: M_제사일 | N1: M_묘소 | O1: 배우자 본관 | P1: 배우자 부명 | Q1: W_한글이름 | R1: W_한문이름 | S1: W_출생일 | T1: W_학력 | U1: W_경력 | V1: W_제사일 | W1: W_묘소
A2: =입력!D4 -> 0 | B2: =입력!D3 -> 0 | C2: =입력!D5 -> 0 | D2: =IF(ISBLANK(입력!D8),"",입력!D8) | E2: =입력!D9 -> 0 | F2: =IF(ISBLANK(입력!D10),"",입력!D10) | G2: =IF(ISBLANK(입력!D11),"",입력!D11) | H2: =IF(ISBLANK(입력!D12),"",입력!D12) | I2: =IF(ISBLANK(입력!D13),"",입력!D13) | J2: =IF(ISBLANK(입력!D14),"",입력!D14) | K2: =IF(ISBLANK(입력!D15),"",입력!D15) | L2: =IF(ISBLANK(입력!D16),"",입력!D16) | M2: =IF(ISBLANK(입력!D17),"",입력!D17) | N2: =IF(ISBLANK(입력!D18),"",입력!D18) | O2: =IF(ISBLANK(입력!G9),"",입력!G9) | P2: =IF(ISBLANK(입력!G10),"",입력!G10) | Q2: =IF(ISBLANK(입력!G11),"",입력!G11) | R2: =IF(ISBLANK(입력!G12),"",입력!G12) | S2: =IF(ISBLANK(입력!G14),"",입력!G14) | T2: =IF(ISBLANK(입력!G15),"",입력!G15) | U2: =IF(ISBLANK(입력!G16),"",입력!G16) | V2: =IF(ISBLANK(입력!G17),"",입력!G17) | W2: =IF(ISBLANK(입력!G18),"",입력!G18)
